﻿﻿﻿BEGIN:VCALENDAR
VERSION:2.0
PRODID:-//InvisionCommunity Events 4.7.23//EN
METHOD:PUBLISH
CALSCALE:GREGORIAN
REFRESH-INTERVAL:PT15M
X-PUBLISHED-TTL:PT15M
X-WR-CALNAME:Community Calendar
NAME:Community Calendar
BEGIN:VTIMEZONE
TZID:Europe/London
TZURL:http://tzurl.org/zoneinfo/Europe/London
X-LIC-LOCATION:Europe/London
BEGIN:DAYLIGHT
TZOFFSETFROM:+0000
TZOFFSETTO:+0100
TZNAME:BST
DTSTART:20050327T020000Z
RRULE:FREQ=YEARLY;BYMONTH=3;BYDAY=-1SU
END:DAYLIGHT
BEGIN:STANDARD
TZOFFSETFROM:+0100
TZOFFSETTO:+0000
TZNAME:GMT
DTSTART:20051030T020000Z
RRULE:FREQ=YEARLY;BYMONTH=10;BYDAY=-1SU
END:STANDARD
END:VTIMEZONE
BEGIN:VEVENT
SUMMARY:Trance Art_ sabado 25 de junho Azax Synd
DTSTAMP:20050625T225959Z
SEQUENCE:1
UID:87-1-bb9e82afcfc8ef94033c6c7e8bc74a97@www.elastiktribe.org
ORGANIZER;CN="Namaste":noreply@elastiktribe.org
DESCRIPTION:Trance Art_ sabado 25 de junho\n\n\n\nLive \n\n\nAzax Syndro
	m \n\n( 3d vision - Israel )\n\n\nCreatrix \n\n( enzyme rec - pt ) \n\n\nD
	J's\n\n\nOli insight \n\n( insight dynamiks / ajuca productions - uk )\n\n
	\nAnestetic \n\n( swing - pt )\n\n\nTAJMAHAL \n\n( ultimae rec - fr )\n\n\
	nNamaste \n\n( creatrix / enzyme rec - pt )\n\n\nJuggler \n\n( chaishop co
	m - pt )\n\n\nChill trance art \n\nDeco Esposição de Arte \n\nDiversos a
	rtistas\n\nDiversas expressões \n\n\n\nLocation : Rota: A1 saida de Aveir
	as de cima\,\n\nna rotunda seguir na direcção do cartaxo\n\nvirar na dir
	eita para pontevel - seguiras setas\n\nBoa viagem! \n\n\n\nEntry fee Entra
	da: 15 E\n\nFrutas frescas + chaii\n\nao nascer do Sol\n\n\nHotline 91 231
	5075 / 91 2160403 \n\nOrganizer trance art \n\n\nInfos Backstage Artcafé\
	n\npromotes:\n\nTrance Art\n\n\nBrevemente no Bairro Alto\n\nBackstage art
	 Café - Lisboa\n\n\nEmail janamortesen@hotmail.com
DTSTART:20050625T010000Z
END:VEVENT
END:VCALENDAR
